BEGIN:VCALENDAR
VERSION:2.0
PRODID:-//www.fremonthabitat.org//NONSGML kigkonsult.se iCalcreator 2.30.10
 //
CALSCALE:GREGORIAN
METHOD:PUBLISH
UID:f9121d55-e832-4d17-a3e3-54e0af3b0397
X-WR-CALDESC:
X-WR-RELCALID:ac1a7587a9417b5d5b2d7bac80c49596
X-WR-TIMEZONE:America/Chicago
BEGIN:VTIMEZONE
TZID:America/Chicago
BEGIN:STANDARD
TZNAME:CST
DTSTART:20251102T020000
TZOFFSETFROM:-0500
TZOFFSETTO:-0600
RDATE:20261101T020000
END:STANDARD
BEGIN:DAYLIGHT
TZNAME:CDT
DTSTART:20260308T020000
TZOFFSETFROM:-0600
TZOFFSETTO:-0500
RDATE:20270314T020000
END:DAYLIGHT
END:VTIMEZONE
BEGIN:VEVENT
UID:05eeac4d-2749-4852-bc52-fd4fbf28793f
DTSTAMP:20260423T120350Z
DESCRIPTION:
DTSTART;TZID=America/Chicago:20260507T050000
DTEND;TZID=America/Chicago:20260507T050001
LOCATION:https://www.fremontareabiggive.org
SUMMARY:The Big Give
END:VEVENT
END:VCALENDAR
