BEGIN:VCALENDAR
VERSION:2.0
PRODID:-//www.fremonthabitat.org//NONSGML kigkonsult.se iCalcreator 2.30.10
 //
CALSCALE:GREGORIAN
METHOD:PUBLISH
UID:83cb16de-91fd-492f-8a92-0a5c8c25784d
X-WR-CALDESC:SIGN UP TO VOLUNTEER AT:\nhttps://fremonthabitat.volunteerhub.
 com/
X-WR-RELCALID:fc2d85a102d6843a8822953fa56cc84c
X-WR-TIMEZONE:America/Chicago
BEGIN:VTIMEZONE
TZID:America/Chicago
BEGIN:STANDARD
TZNAME:CST
DTSTART:20251102T020000
TZOFFSETFROM:-0500
TZOFFSETTO:-0600
RDATE:20261101T020000
END:STANDARD
BEGIN:DAYLIGHT
TZNAME:CDT
DTSTART:20260308T020000
TZOFFSETFROM:-0600
TZOFFSETTO:-0500
RDATE:20270314T020000
END:DAYLIGHT
END:VTIMEZONE
BEGIN:VEVENT
UID:3f56a479-5e54-4f35-b450-db4fc3ea58bf
DTSTAMP:20260422T090656Z
DESCRIPTION:SIGN UP TO VOLUNTEER AT:\nhttps://fremonthabitat.volunteerhub.c
 om/
DTSTART;TZID=America/Chicago:20260423T080000
DTEND;TZID=America/Chicago:20260423T160000
LOCATION:
SUMMARY:Construction
END:VEVENT
END:VCALENDAR
