BEGIN:VCALENDAR
VERSION:2.0
PRODID:-//www.fremonthabitat.org//NONSGML kigkonsult.se iCalcreator 2.30.10
 //
CALSCALE:GREGORIAN
METHOD:PUBLISH
UID:8a06a7db-0038-42e1-b508-f001355fd9e0
X-WR-CALDESC:SIGN UP TO VOLUNTEER AT:\nhttps://fremonthabitat.volunteerhub.
 com/
X-WR-RELCALID:545acfbfb60627946639b6754ef79734
X-WR-TIMEZONE:America/Chicago
BEGIN:VTIMEZONE
TZID:America/Chicago
BEGIN:STANDARD
TZNAME:CST
DTSTART:20251102T020000
TZOFFSETFROM:-0500
TZOFFSETTO:-0600
RDATE:20261101T020000
END:STANDARD
BEGIN:DAYLIGHT
TZNAME:CDT
DTSTART:20250309T020000
TZOFFSETFROM:-0600
TZOFFSETTO:-0500
RDATE:20260308T020000
RDATE:20270314T020000
END:DAYLIGHT
END:VTIMEZONE
BEGIN:VEVENT
UID:ed85973d-912f-484a-9161-fdbc883a74ae
DTSTAMP:20260421T090319Z
DESCRIPTION:SIGN UP TO VOLUNTEER AT:\nhttps://fremonthabitat.volunteerhub.c
 om/
DTSTART;TZID=America/Chicago:20251113T080000
DTEND;TZID=America/Chicago:20251113T160000
LOCATION:
SUMMARY:Construction
END:VEVENT
END:VCALENDAR
