BEGIN:VCALENDAR
VERSION:2.0
PRODID:-//www.fremonthabitat.org//NONSGML kigkonsult.se iCalcreator 2.30.10
 //
CALSCALE:GREGORIAN
METHOD:PUBLISH
UID:720f870a-452f-42c2-8b13-95ce55eeae2f
X-WR-CALDESC:SIGN UP TO VOLUNTEER AT:\nhttps://fremonthabitat.volunteerhub.
 com/
X-WR-RELCALID:f8154ab7497bea162c8225c6df68e1df
X-WR-TIMEZONE:America/Chicago
BEGIN:VTIMEZONE
TZID:America/Chicago
BEGIN:STANDARD
TZNAME:CST
DTSTART:20251102T020000
TZOFFSETFROM:-0500
TZOFFSETTO:-0600
RDATE:20261101T020000
END:STANDARD
BEGIN:DAYLIGHT
TZNAME:CDT
DTSTART:20250309T020000
TZOFFSETFROM:-0600
TZOFFSETTO:-0500
RDATE:20260308T020000
RDATE:20270314T020000
END:DAYLIGHT
END:VTIMEZONE
BEGIN:VEVENT
UID:1b59ddbd-5987-4227-bb35-d74d344923f7
DTSTAMP:20260421T090409Z
DESCRIPTION:SIGN UP TO VOLUNTEER AT:\nhttps://fremonthabitat.volunteerhub.c
 om/
DTSTART;TZID=America/Chicago:20251108T080000
DTEND;TZID=America/Chicago:20251108T163000
LOCATION:
SUMMARY:Construction
END:VEVENT
END:VCALENDAR
