BEGIN:VCALENDAR
VERSION:2.0
PRODID:-//www.fremonthabitat.org//NONSGML kigkonsult.se iCalcreator 2.30.10
 //
CALSCALE:GREGORIAN
METHOD:PUBLISH
UID:12f0c5f7-e38b-4cf9-bac8-349d3f3b4333
X-WR-CALDESC:SIGN UP TO VOLUNTEER AT:\nhttps://fremonthabitat.volunteerhub.
 com/
X-WR-RELCALID:bb62eee71fcdd52d56f653a8a3270c43
X-WR-TIMEZONE:America/Chicago
BEGIN:VTIMEZONE
TZID:America/Chicago
BEGIN:STANDARD
TZNAME:CST
DTSTART:20241103T020000
TZOFFSETFROM:-0500
TZOFFSETTO:-0600
RDATE:20251102T020000
RDATE:20261101T020000
END:STANDARD
BEGIN:DAYLIGHT
TZNAME:CDT
DTSTART:20250309T020000
TZOFFSETFROM:-0600
TZOFFSETTO:-0500
RDATE:20260308T020000
RDATE:20270314T020000
END:DAYLIGHT
END:VTIMEZONE
BEGIN:VEVENT
UID:0faf185f-cc56-42b1-8c06-05c1afe6e847
DTSTAMP:20260421T104358Z
DESCRIPTION:SIGN UP TO VOLUNTEER AT:\nhttps://fremonthabitat.volunteerhub.c
 om/
DTSTART;TZID=America/Chicago:20251025T080000
DTEND;TZID=America/Chicago:20251025T163000
LOCATION:
SUMMARY:Construction
END:VEVENT
END:VCALENDAR
