BEGIN:VCALENDAR
VERSION:2.0
PRODID:-//www.fremonthabitat.org//NONSGML kigkonsult.se iCalcreator 2.30.10
 //
CALSCALE:GREGORIAN
METHOD:PUBLISH
UID:039f89f7-6e2b-4d21-b7a8-2a8ea725e024
X-WR-CALDESC:SIGN UP TO VOLUNTEER AT:\nhttps://fremonthabitat.volunteerhub.
 com/
X-WR-RELCALID:401eda18cd13ff4a43a3e48434de7829
X-WR-TIMEZONE:America/Chicago
BEGIN:VTIMEZONE
TZID:America/Chicago
BEGIN:STANDARD
TZNAME:CST
DTSTART:20241103T020000
TZOFFSETFROM:-0500
TZOFFSETTO:-0600
RDATE:20251102T020000
RDATE:20261101T020000
END:STANDARD
BEGIN:DAYLIGHT
TZNAME:CDT
DTSTART:20250309T020000
TZOFFSETFROM:-0600
TZOFFSETTO:-0500
RDATE:20260308T020000
RDATE:20270314T020000
END:DAYLIGHT
END:VTIMEZONE
BEGIN:VEVENT
UID:d86f4c45-3b49-4647-b0a1-61a0e52644cb
DTSTAMP:20260421T103441Z
DESCRIPTION:SIGN UP TO VOLUNTEER AT:\nhttps://fremonthabitat.volunteerhub.c
 om/
DTSTART;TZID=America/Chicago:20251009T080000
DTEND;TZID=America/Chicago:20251009T160000
LOCATION:
SUMMARY:Construction
END:VEVENT
END:VCALENDAR
